0.300000
0.000000
0.000000
-0.300000
517489.640089
3665173.323120
