0.300000
0.000000
0.000000
-0.300000
535201.940089
3602872.623120
