0.300000
0.000000
0.000000
-0.300000
541069.040089
3602898.723120
