0.300000
0.000000
0.000000
-0.300000
535177.340089
3609801.123120
