0.300000
0.000000
0.000000
-0.300000
523435.040089
3616688.223120
