0.300000
0.000000
0.000000
-0.300000
662675.159256
3701259.782759
