0.300000
0.000000
0.000000
-0.300000
662558.459256
3708190.382759
