0.300000
0.000000
0.000000
-0.300000
668364.659256
3708293.582759
