0.300000
0.000000
0.000000
-0.300000
708105.959256
3750703.982759
