0.300000
0.000000
0.000000
-0.300000
713887.859256
3750835.982759
