0.300000
0.000000
0.000000
-0.300000
523352.840089
3651331.323120
