0.300000
0.000000
0.000000
-0.300000
570307.640089
3616936.623120
