0.300000
0.000000
0.000000
-0.300000
576166.940089
3616983.423120
