0.300000
0.000000
0.000000
-0.300000
570258.740089
3623865.423120
