0.300000
0.000000
0.000000
-0.300000
576113.840089
3623912.223120
