0.300000
0.000000
0.000000
-0.300000
534906.140089
3686017.923120
