0.300000
0.000000
0.000000
-0.300000
540723.740089
3686044.023120
