0.300000
0.000000
0.000000
-0.300000
552247.340089
3706894.923120
