0.300000
0.000000
0.000000
-0.300000
511797.740089
3547379.823120
