0.300000
0.000000
0.000000
-0.300000
511789.940089
3554307.423120
