0.300000
0.000000
0.000000
-0.300000
517685.240089
3554319.423120
