0.300000
0.000000
0.000000
-0.300000
616192.640089
3700561.023120
