0.300000
0.000000
0.000000
-0.300000
505825.040089
3672081.423120
