0.300000
0.000000
0.000000
-0.300000
488248.340089
3595867.023120
