0.300000
0.000000
0.000000
-0.300000
494123.840089
3595861.923120
