0.300000
0.000000
0.000000
-0.300000
482483.540089
3658232.523120
