0.300000
0.000000
0.000000
-0.300000
685516.859256
3722486.282759
