0.300000
0.000000
0.000000
-0.300000
691315.259256
3722603.582759
