0.300000
0.000000
0.000000
-0.300000
570012.140089
3658510.023120
