0.300000
0.000000
0.000000
-0.300000
575846.840089
3658557.123120
