0.300000
0.000000
0.000000
-0.300000
569913.140089
3672368.523120
