0.300000
0.000000
0.000000
-0.300000
569863.340089
3679297.923120
