0.300000
0.000000
0.000000
-0.300000
569962.640089
3665439.423120
