0.300000
0.000000
0.000000
-0.300000
563812.340089
3713901.423120
