0.300000
0.000000
0.000000
-0.300000
570111.140089
3644652.123120
