0.300000
0.000000
0.000000
-0.300000
511765.640089
3575091.423120
