0.300000
0.000000
0.000000
-0.300000
511757.540089
3582019.323120
