0.300000
0.000000
0.000000
-0.300000
517636.940089
3582031.323120
