0.300000
0.000000
0.000000
-0.300000
470622.740089
3595903.023120
