0.300000
0.000000
0.000000
-0.300000
645658.940089
3673250.523120
