0.300000
0.000000
0.000000
-0.300000
645555.440089
3680180.823120
