0.300000
0.000000
0.000000
-0.300000
464869.340089
3630564.123120
