0.300000
0.000000
0.000000
-0.300000
464893.940089
3637492.923120
