0.300000
0.000000
0.000000
-0.300000
511684.040089
3644374.923120
