0.300000
0.000000
0.000000
-0.300000
511675.940089
3651303.723120
