0.300000
0.000000
0.000000
-0.300000
622351.640089
3672916.623120
