0.300000
0.000000
0.000000
-0.300000
622264.640089
3679846.323120
