0.300000
0.000000
0.000000
-0.300000
464820.440089
3616707.123120
