0.300000
0.000000
0.000000
-0.300000
470683.640089
3616688.223120
