0.300000
0.000000
0.000000
-0.300000
470704.040089
3623616.723120
